BEGIN:VCALENDAR
VERSION:2.0
PRODID:-//ChamberMaster//Event Calendar 2.0//EN
METHOD:PUBLISH
X-PUBLISHED-TTL:P3D
REFRESH-INTERVAL:P3D
CALSCALE:GREGORIAN
BEGIN:VEVENT
DTSTART:20260430T140000Z
DTEND:20260430T160000Z
X-MICROSOFT-CDO-ALLDAYEVENT:FALSE
SUMMARY:Non-Profit Grant Workshop
DESCRIPTION:It's almost that time of year! Impact 100 Baldwin County will be opening our grant application process and conducting a grant writing workshop. We hope you will apply for a grant this year. Check out our website HERE to see if your nonprofit is eligible to apply.\n\n\n\nFeel free to reach out to the grants committee with any questions you have. mailto:grants@impact100baldwincounty.org\n\n\n\nBe sure to mark April 30th on your calendar for the workshop. We would love to help you make an impact in Baldwin County!\n\n\n\nGrants Committee\n\nImpact 100 Baldwin County
X-ALT-DESC;FMTTYPE=text/html:<strong style="color: rgb(36\, 36\, 36)\; font-family: &quot\;Segoe UI&quot\;\, &quot\;Segoe UI Web (West European)&quot\;\, -apple-system\, BlinkMacSystemFont\, Roboto\, &quot\;Helvetica Neue&quot\;\, sans-serif\; font-size: 15px\;"><span data-olk-copy-source="MessageBody" style="border: 0px\; font-style: inherit\; font-variant: inherit\; font-weight: inherit\; font-stretch: inherit\; font-size: 10.5pt\; line-height: inherit\; font-family: &quot\;Open Sans&quot\;\, sans-serif\; font-optical-sizing: inherit\; font-size-adjust: inherit\; font-kerning: inherit\; font-feature-settings: inherit\; font-variation-settings: inherit\; font-language-override: inherit\; margin: 0px\; padding: 0px\; vertical-align: baseline\; color: rgb(85\, 85\, 85)\;">It&#39\;s almost that time of year! Impact 100 Baldwin County will be opening our grant application process and conducting a grant writing workshop. We hope you will apply for a grant this year. Check out our website&nbsp\;<a data-auth="NotApplicable" data-linkindex="0" href="https://www.viethconsulting.com/ct.php?lid=498600119&amp\;mm=146885466485" style="border: 0px\; font: inherit\; margin: 0px\; padding: 0px\; vertical-align: baseline\;" title="https://www.viethconsulting.com/ct.php?lid=498600119&amp\;mm=146885466485"><span style="border: 0px\; font: inherit\; margin: 0px\; padding: 0px\; vertical-align: baseline\; color: rgb(0\, 104\, 165)\;">HERE</span></a>&nbsp\;to see if your nonprofit is eligible to apply.</span></strong><br />\n<br />\n<b style="color: rgb(36\, 36\, 36)\; font-family: &quot\;Segoe UI&quot\;\, &quot\;Segoe UI Web (West European)&quot\;\, -apple-system\, BlinkMacSystemFont\, Roboto\, &quot\;Helvetica Neue&quot\;\, sans-serif\; font-size: 15px\;"><span style="border: 0px\; font-style: inherit\; font-variant: inherit\; font-weight: inherit\; font-stretch: inherit\; font-size: 10.5pt\; line-height: inherit\; font-family: &quot\;Open Sans&quot\;\, sans-serif\; font-optical-sizing: inherit\; font-size-adjust: inherit\; font-kerning: inherit\; font-feature-settings: inherit\; font-variation-settings: inherit\; font-language-override: inherit\; margin: 0px\; padding: 0px\; vertical-align: baseline\; color: rgb(85\, 85\, 85)\;"><strong><span style="border: 0px\; font-style: inherit\; font-variant: inherit\; font-weight: inherit\; font-stretch: inherit\; font-size: inherit\; line-height: inherit\; font-optical-sizing: inherit\; font-size-adjust: inherit\; font-kerning: inherit\; font-feature-settings: inherit\; font-variation-settings: inherit\; font-language-override: inherit\; margin: 0px\; padding: 0px\; vertical-align: baseline\; color: inherit\;">Feel free to reach out to the grants committee with any questions you have.&nbsp\;<a data-linkindex="1" href="mailto:grants@impact100baldwincounty.org" style="border: 0px\; font: inherit\; margin: 0px\; padding: 0px\; vertical-align: baseline\;" title="mailto:grants@impact100baldwincounty.org"><span style="border: 0px\; font: inherit\; margin: 0px\; padding: 0px\; vertical-align: baseline\; color: rgb(0\, 104\, 165)\;">mailto:grants@impact100baldwincounty.org</span></a></span></strong><br />\n<br />\n<strong><span style="border: 0px\; font-style: inherit\; font-variant: inherit\; font-weight: inherit\; font-stretch: inherit\; font-size: inherit\; line-height: inherit\; font-optical-sizing: inherit\; font-size-adjust: inherit\; font-kerning: inherit\; font-feature-settings: inherit\; font-variation-settings: inherit\; font-language-override: inherit\; margin: 0px\; padding: 0px\; vertical-align: baseline\; color: inherit\;">Be sure to mark April 30th on your calendar for the workshop. We would love to help you make an impact in Baldwin County!</span></strong><br />\n<br />\n<strong><span style="border: 0px\; font-style: inherit\; font-variant: inherit\; font-weight: inherit\; font-stretch: inherit\; font-size: inherit\; line-height: inherit\; font-optical-sizing: inherit\; font-size-adjust: inherit\; font-kerning: inherit\; font-feature-settings: inherit\; font-variation-settings: inherit\; font-language-override: inherit\; margin: 0px\; padding: 0px\; vertical-align: baseline\; color: inherit\;">Grants Committee</span></strong><br />\n<strong><span style="border: 0px\; font-style: inherit\; font-variant: inherit\; font-weight: inherit\; font-stretch: inherit\; font-size: inherit\; line-height: inherit\; font-optical-sizing: inherit\; font-size-adjust: inherit\; font-kerning: inherit\; font-feature-settings: inherit\; font-variation-settings: inherit\; font-language-override: inherit\; margin: 0px\; padding: 0px\; vertical-align: baseline\; color: inherit\;">Impact 100 Baldwin County</span></strong></span></b><span style="border: 0px\; font-variant-numeric: inherit\; font-variant-east-asian: inherit\; font-variant-alternates: inherit\; font-variant-position: inherit\; font-variant-emoji: inherit\; font-stretch: inherit\; font-size: 10.5pt\; line-height: inherit\; font-family: &quot\;Open Sans&quot\;\, sans-serif\; font-optical-sizing: inherit\; font-size-adjust: inherit\; font-kerning: inherit\; font-feature-settings: inherit\; font-variation-settings: inherit\; font-language-override: inherit\; margin: 0px\; padding: 0px\; vertical-align: baseline\; color: rgb(85\, 85\, 85)\;">&nbsp\;</span>
LOCATION:
UID:e.1304.40197
SEQUENCE:3
DTSTAMP:20260422T120505Z
URL:http://business.eschamber.org/events/details/non-profit-grant-workshop-40197
END:VEVENT

END:VCALENDAR
