BEGIN:VCALENDAR
VERSION:2.0
PRODID:-//ChamberMaster//Event Calendar 2.0//EN
METHOD:PUBLISH
X-PUBLISHED-TTL:P3D
REFRESH-INTERVAL:P3D
CALSCALE:GREGORIAN
BEGIN:VEVENT
DTSTART:20241027T200000Z
DTEND:20241027T210000Z
X-MICROSOFT-CDO-ALLDAYEVENT:FALSE
SUMMARY:Olde Towne Daphne Witches Ride
DESCRIPTION:Manci's Antique Club presents Olde Towne Daphne's Witches Ride Benefiting Konbit Haiti. This year\, tons of spooky bike riders\, walkers\, and golf cart riders will join us in Olde Towne Daphne for our 8th Annual Witches Ride on Sunday\, October 27th! Registration starts at 2:00pm. The ride starts at 3:00pm. We will have bounce houses\, face painting\, cotton candy\, cornhole\, prizes\, and more! Join us after the ride for Manci's after party!
X-ALT-DESC;FMTTYPE=text/html:Manci&#39\;s Antique Club presents Olde Towne Daphne&#39\;s Witches Ride Benefiting Konbit Haiti. This year\, tons of spooky bike riders\, walkers\, and golf cart riders will join us in Olde Towne Daphne for our 8th Annual Witches Ride on Sunday\, October 27th! Registration starts at 2:00pm. The ride starts at 3:00pm. We will have bounce houses\, face painting\, cotton candy\, cornhole\, prizes\, and more! Join us after the ride for Manci&#39\;s after party!
LOCATION:On the lawn at Daphne City Hall
UID:e.1304.35733
SEQUENCE:3
DTSTAMP:20260425T164633Z
URL:http://business.eschamber.org/events/details/olde-towne-daphne-witches-ride-35733
END:VEVENT

END:VCALENDAR
