BEGIN:VCALENDAR
VERSION:2.0
PRODID:-//ChamberMaster//Event Calendar 2.0//EN
METHOD:PUBLISH
X-PUBLISHED-TTL:P3D
REFRESH-INTERVAL:P3D
CALSCALE:GREGORIAN
BEGIN:VEVENT
DTSTART:20240220T170000Z
DTEND:20240220T180000Z
X-MICROSOFT-CDO-ALLDAYEVENT:FALSE
SUMMARY:Open House/Ribbon Cutting: Shorty’s Safe Haven
DESCRIPTION:Open House/Ribbon Cutting: Shorty's Safe Haven
X-ALT-DESC;FMTTYPE=text/html:Open House/Ribbon Cutting: Shorty&rsquo\;s Safe Haven&nbsp\;\n<div id="gtx-trans" style="position: absolute\; left: 178px\; top: 38.6px\;">\n<div class="gtx-trans-icon">&nbsp\;</div>\n</div>\n
LOCATION:12866 US-98 Foley\, AL 36535 (right before you get to Magnolia Springs)
UID:e.1304.29951
SEQUENCE:3
DTSTAMP:20260426T034346Z
URL:http://business.eschamber.org/events/details/open-house-ribbon-cutting-shorty-s-safe-haven-29951
END:VEVENT

END:VCALENDAR
