BEGIN:VCALENDAR
VERSION:2.0
PRODID:-//ChamberMaster//Event Calendar 2.0//EN
METHOD:PUBLISH
X-PUBLISHED-TTL:P3D
REFRESH-INTERVAL:P3D
CALSCALE:GREGORIAN
BEGIN:VEVENT
DTSTART:20240425T000000Z
DTEND:20240425T020000Z
X-MICROSOFT-CDO-ALLDAYEVENT:FALSE
SUMMARY:Opera & Musical Theatre Gala
DESCRIPTION:Please join us for our Opera & Musical Theatre Gala with Choral Showcase featuring the students of the University of Mobile
X-ALT-DESC;FMTTYPE=text/html:Please join us for our Opera &amp\; Musical Theatre Gala with Choral Showcase featuring the students of the University of Mobile
LOCATION:Trinity Presbyterian Church\, 545 S Mobile St\, Fairhope\, AL 36532
UID:e.1304.30105
SEQUENCE:3
DTSTAMP:20260426T005255Z
URL:http://business.eschamber.org/events/details/opera-musical-theatre-gala-30105
END:VEVENT

END:VCALENDAR
