BEGIN:VCALENDAR
VERSION:2.0
PRODID:-//ChamberMaster//Event Calendar 2.0//EN
METHOD:PUBLISH
X-PUBLISHED-TTL:P3D
REFRESH-INTERVAL:P3D
CALSCALE:GREGORIAN
BEGIN:VEVENT
DTSTART:20260215T200000Z
DTEND:20260216T030000Z
X-MICROSOFT-CDO-ALLDAYEVENT:FALSE
SUMMARY:OWA Mardi Gras Parade & Party
DESCRIPTION:Get ready to let the good times roll at the Mardi Gras Parade & Party in Downtown OWA on February 15th! Perfect for families and Mardi Gras enthusiasts\, this free event offers a community-based Mardi Gras parade\, where colorful floats and dazzling beads will fill the streets of Downtown OWA.\n\nThe celebration doesn't stop there\, enjoy live music on OWA Island\, participate in the King Cake Eating Contest and much more. Bring your family\, friends\, and your festive spirit\, it's a celebration you won't want to miss!
X-ALT-DESC;FMTTYPE=text/html:<p>Get ready to let the good times roll at the Mardi Gras Parade &amp\; Party in Downtown OWA on February 15th! Perfect for families and Mardi Gras enthusiasts\, this free event offers a community-based Mardi Gras parade\, where colorful floats and dazzling beads will fill the streets of Downtown OWA.</p>\n\n<p>The celebration doesn&rsquo\;t stop there\, enjoy live music on OWA Island\, participate in the King Cake Eating Contest and much more. Bring your family\, friends\, and your festive spirit\, it&rsquo\;s a celebration you won&rsquo\;t want to miss!</p>\n
LOCATION:Location: Downtown OWA
UID:e.1304.39878
SEQUENCE:3
DTSTAMP:20260422T135350Z
URL:http://business.eschamber.org/events/details/owa-mardi-gras-parade-party-02-15-2026-39878
END:VEVENT

END:VCALENDAR
