BEGIN:VCALENDAR
VERSION:2.0
PRODID:-//ChamberMaster//Event Calendar 2.0//EN
METHOD:PUBLISH
X-PUBLISHED-TTL:P3D
REFRESH-INTERVAL:P3D
CALSCALE:GREGORIAN
BEGIN:VEVENT
DTSTART:20240329T150000Z
DTEND:20240330T200000Z
X-MICROSOFT-CDO-ALLDAYEVENT:FALSE
SUMMARY:OWA Parks & Resort Hiring Events
DESCRIPTION:Looking for your dream job or a summer job opportunity? Choose OWA Parks & Resort! We're looking to fill a variety of positions throughout the resort\, including Tropic Falls! Hiring events will be held at the entrance to Tropic Falls.\n\n\n\nOWA Team Members get benefits and exclusive perks! Each Team Member gets a Tropic Falls Season Pass\, discounts at various Downtown OWA businesses and more!
X-ALT-DESC;FMTTYPE=text/html:Looking for your dream job or a summer job opportunity? Choose OWA Parks &amp\; Resort! We&rsquo\;re looking to fill a variety of positions throughout the resort\, including Tropic Falls! Hiring events will be held at the entrance to Tropic Falls.<br />\n<br />\nOWA Team Members get benefits and exclusive perks! Each Team Member gets a Tropic Falls Season Pass\, discounts at various Downtown OWA businesses and more!
LOCATION:March 29-30: Tropic Falls Entrance\, 10am to 3pm
UID:e.1304.30093
SEQUENCE:3
DTSTAMP:20260426T022204Z
URL:http://business.eschamber.org/events/details/owa-parks-resort-hiring-events-03-29-2024-30093
END:VEVENT

END:VCALENDAR
