BEGIN:VCALENDAR
VERSION:2.0
PRODID:-//ChamberMaster//Event Calendar 2.0//EN
METHOD:PUBLISH
X-PUBLISHED-TTL:P3D
REFRESH-INTERVAL:P3D
CALSCALE:GREGORIAN
BEGIN:VEVENT
DTSTART:20240704T050000Z
DTEND:20240706T050000Z
X-MICROSOFT-CDO-ALLDAYEVENT:FALSE
SUMMARY:OWA's 4th of July Weekend Party
DESCRIPTION:We'll be celebrating Independence Day\, July 4th 6th\, at OWA with family-friendly activities\, a Dive-In movie night\, live music\, and one incredible fireworks show! From photo ops with Uncle Sam to a patriotic Costume Contest to a Hot Dog Eating Contest\, this free event has it all! Grab your friends and celebrate with a fun day on the streets of Downtown!\n\n\n\nPLUS\, enjoy a spectacular fireworks show on Saturday\, July 6th\, synchronized with patriotic music playing throughout the property. The fireworks will go off at 8:50 pm sharp and can be seen in the air over Downtown OWA & Tropic Falls. Grab your Season Pass\, Day Ticket\, or Twilight ticket to enjoy the show inside the gates of Tropic Falls!\n\n\n\n*Tropic Falls admission ticket or pass is required for the Dive-In movie night and entrance into Tropic Falls. Tropic Falls tickets here: VisitOWA.com.
X-ALT-DESC;FMTTYPE=text/html:We&rsquo\;ll be celebrating Independence Day\, July 4th&mdash\;6th\, at OWA with family-friendly activities\, a Dive-In movie night\, live music\, and one incredible fireworks show! From photo ops with Uncle Sam to a patriotic Costume Contest to a Hot Dog Eating Contest\, this free event has it all! Grab your friends and celebrate with a fun day on the streets of Downtown!<br />\n<br />\nPLUS\, enjoy a spectacular fireworks show on Saturday\, July 6th\, synchronized with patriotic music playing throughout the property. The fireworks will go off at 8:50 pm sharp and can be seen in the air over Downtown OWA &amp\; Tropic Falls. Grab your Season Pass\, Day Ticket\, or Twilight ticket to enjoy the show inside the gates of Tropic Falls!<br />\n<br />\n*Tropic Falls admission ticket or pass is required for the Dive-In movie night and entrance into Tropic Falls. Tropic Falls tickets here: VisitOWA.com.
LOCATION:Location: Downtown OWA
UID:e.1304.32066
SEQUENCE:3
DTSTAMP:20260425T205950Z
URL:http://business.eschamber.org/events/details/owa-s-4th-of-july-weekend-party-07-04-2024-32066
END:VEVENT

END:VCALENDAR
