BEGIN:VCALENDAR
VERSION:2.0
PRODID:-//ChamberMaster//Event Calendar 2.0//EN
METHOD:PUBLISH
X-PUBLISHED-TTL:P3D
REFRESH-INTERVAL:P3D
CALSCALE:GREGORIAN
BEGIN:VEVENT
DTSTART:20241019T230000Z
DTEND:20241020T013000Z
X-MICROSOFT-CDO-ALLDAYEVENT:FALSE
SUMMARY:OWA's HalGLOWeen
DESCRIPTION:Get ready for a glowing good time in Downtown OWA   HalGLOWeen! On Saturday\, October 19th\, the night will light up with spooky fun for all ages. Enjoy free glow-in-the-dark activities all night\, including yard games\, crafts\, and a graffiti wall. The Bubble Truck will take glowing fun to the next level with neon\, colored foam bubbles. Plus\, remember to grab a picture with costumed stilt walkers roaming the walkways in Downtown OWA! Bring your friends\, and don't miss out on a glow-tastic experience!\n\n \n\nLearn more about all activities this Halloween here: https://visitowa.com/fun-filled-fall/.
X-ALT-DESC;FMTTYPE=text/html:Get ready for a glowing good time in Downtown OWA &mdash\; HalGLOWeen! On Saturday\, October 19<sup>th</sup>\, the night will light up with spooky fun for all ages. Enjoy free glow-in-the-dark activities all night\, including yard games\, crafts\, and a graffiti wall. The Bubble Truck will take glowing fun to the next level with neon\, colored foam bubbles. Plus\, remember to grab a picture with costumed stilt walkers roaming the walkways in Downtown OWA! Bring your friends\, and don&rsquo\;t miss out on a glow-tastic experience!<br />\n&nbsp\;<br />\nLearn more about all activities this Halloween here:&nbsp\;https://visitowa.com/fun-filled-fall/.
LOCATION:Downtown OWA
UID:e.1304.35716
SEQUENCE:3
DTSTAMP:20260425T164740Z
URL:http://business.eschamber.org/events/details/owa-s-halgloween-35716
END:VEVENT

END:VCALENDAR
