BEGIN:VCALENDAR
VERSION:2.0
PRODID:-//ChamberMaster//Event Calendar 2.0//EN
METHOD:PUBLISH
X-PUBLISHED-TTL:P3D
REFRESH-INTERVAL:P3D
CALSCALE:GREGORIAN
BEGIN:VEVENT
DTSTART:20241013T180000Z
DTEND:20241014T000000Z
X-MICROSOFT-CDO-ALLDAYEVENT:FALSE
SUMMARY:OWA's Heroes & Villains Spooktacular
DESCRIPTION:Forge your destiny at the Heroes & Villains Spooktacular! Held at Storybook Manor\, conveniently located next to OWA Theater\, across from Native Treasures\, this thrilling event invites families and children to craft their own heroic or villainous adventure. Create swords and shields\, duel in knightly battles\, brew magical potions\, and hunt for hidden treasures on a scavenger quest. Enjoy tasty snacks and wrap up the day with a special showing of Descendants (2015 | G) at OWA Theater. Whether you choose to be a daring hero or a mischievous villain\, a day of excitement and magical memories awaits! \n\n\n\nLearn more here: https://visitowa.com/heroes-villains-spooktacular/.
X-ALT-DESC;FMTTYPE=text/html:<span style="font-family:calibri\,sans-serif"><span style="font-size:11.0pt">Forge your destiny at the <em>Heroes &amp\; Villains Spooktacular</em>! Held at Storybook Manor\, conveniently located next to OWA Theater\, across from Native Treasures\, this thrilling event invites families and children to craft their own heroic or villainous adventure. Create swords and shields\, duel in knightly battles\, brew magical potions\, and hunt for hidden treasures on a scavenger quest. Enjoy tasty snacks and wrap up the day with a special showing of <em>Descendants</em> (2015 | G) at OWA Theater. Whether you choose to be a daring hero or a mischievous villain\, a day of excitement and magical memories awaits!&nbsp\;</span></span><br />\n<br />\nLearn more here:&nbsp\;https://visitowa.com/heroes-villains-spooktacular/.<br />\n&nbsp\;
LOCATION:Storybook Manor\, located next to OWA Theater\, across from Native Treasures
UID:e.1304.35726
SEQUENCE:3
DTSTAMP:20260425T165622Z
URL:http://business.eschamber.org/events/details/owa-s-heroes-villains-spooktacular-35726
END:VEVENT

END:VCALENDAR
