BEGIN:VCALENDAR
VERSION:2.0
PRODID:-//ChamberMaster//Event Calendar 2.0//EN
METHOD:PUBLISH
X-PUBLISHED-TTL:P3D
REFRESH-INTERVAL:P3D
CALSCALE:GREGORIAN
BEGIN:VEVENT
DTSTART:20241026T220000Z
DTEND:20241027T020000Z
X-MICROSOFT-CDO-ALLDAYEVENT:FALSE
SUMMARY:OWA's Monster Bash Costume Contest
DESCRIPTION:Join us for a frightfully fun night at the annual Monster Bash Costume Contest on October 26th! Whether you're part of a team\, showing off your spookiest or funniest outfit\, or going solo in an unforgettable costume\, there's a prize for everyone! Kids and adults alike can show off their best Halloween look and compete for a chance to win big. Categories include fan favorites like OWA's Choice and Most Creative\, with amazing prizes up for grabs! Gear up for a boo-tacular time!\n\n\n\nRegistration kicks off at 5 PM\, but why wait? Pre-register online to skip the lines and secure your spot. Online registration closes on Thursday\, October 24th at 8 AM don't miss out!\n\n\n\nCheck out all Halloween activities here: https://visitowa.com/fun-filled-fall/.
X-ALT-DESC;FMTTYPE=text/html:Join us for a frightfully fun night at the annual Monster Bash Costume Contest on October 26<sup>th</sup>! Whether you&#39\;re part of a team\, showing off your spookiest or funniest outfit\, or going solo in an unforgettable costume\, there&rsquo\;s a prize for everyone! Kids and adults alike can show off their best Halloween look and compete for a chance to win big. Categories include fan favorites like OWA&rsquo\;s Choice and Most Creative\, with amazing prizes up for grabs! Gear up for a boo-tacular time!<br />\n<br />\n<strong>Registration kicks off at 5 PM</strong>\, but why wait? <strong>Pre-register online</strong> to skip the lines and secure your spot. <strong>Online registration closes on Thursday\, October 24th at 8 AM</strong>&mdash\;don&rsquo\;t miss out!<br />\n<br />\n<span style="font-family:calibri\,sans-serif"><span style="font-size:11.0pt">Check out all Halloween activities here:&nbsp\;</span></span>https://visitowa.com/fun-filled-fall/.
LOCATION:OWA Island in Downtown OWA
UID:e.1304.35717
SEQUENCE:3
DTSTAMP:20260425T164745Z
URL:http://business.eschamber.org/events/details/owa-s-monster-bash-costume-contest-35717
END:VEVENT

END:VCALENDAR
