BEGIN:VCALENDAR
VERSION:2.0
PRODID:-//ChamberMaster//Event Calendar 2.0//EN
METHOD:PUBLISH
X-PUBLISHED-TTL:P3D
REFRESH-INTERVAL:P3D
CALSCALE:GREGORIAN
BEGIN:VEVENT
DTSTART:20260117T013000Z
DTEND:20260117T033000Z
X-MICROSOFT-CDO-ALLDAYEVENT:FALSE
SUMMARY:OWA Theater Presents: Ronnie Baker Brooks
DESCRIPTION:On January 16th\, Ronnie Baker Brooks brings his electrifying blend of Chicago blues\, rock\, funk\, and soul to OWA Theater! A Blues Music Award winner and son of legendary guitarist Lonnie Brooks\, Ronnie's performances are known for their fiery guitar riffs\, deeply soulful vocals\, and genuine emotional gravity.\n\nWith his Alligator Records album Blues In My DNA\, Ronnie channels his heritage while pushing the blues forward\, writing from the heart\, honoring the past\, and building new bridges through his music.
X-ALT-DESC;FMTTYPE=text/html:<p>On January 16th\, Ronnie Baker Brooks brings his electrifying blend of Chicago blues\, rock\, funk\, and soul to OWA Theater! A Blues Music Award winner and son of legendary guitarist Lonnie Brooks\, Ronnie&rsquo\;s performances are known for their fiery guitar riffs\, deeply soulful vocals\, and genuine emotional gravity.</p>\n\n<p>With his Alligator Records album Blues In My DNA\, Ronnie channels his heritage while pushing the blues forward\, writing from the heart\, honoring the past\, and building new bridges through his music.</p>\n
LOCATION:Location: OWA Theater
UID:e.1304.39798
SEQUENCE:3
DTSTAMP:20260422T135254Z
URL:http://business.eschamber.org/events/details/owa-theater-presents-ronnie-baker-brooks-39798
END:VEVENT

END:VCALENDAR
