BEGIN:VCALENDAR
VERSION:2.0
PRODID:-//ChamberMaster//Event Calendar 2.0//EN
METHOD:PUBLISH
X-PUBLISHED-TTL:P3D
REFRESH-INTERVAL:P3D
CALSCALE:GREGORIAN
BEGIN:VEVENT
DTSTART:20241028T120000Z
DTEND:20241028T233000Z
X-MICROSOFT-CDO-ALLDAYEVENT:FALSE
SUMMARY:Plein Air Fairhope 2024
DESCRIPTION:This year's paint out\, beginning October 28th and ending on November 2nd\, will give locals and visitors a chance to see artists in action or "en plein air"! Artists will be set up from sunrise to sunset around town.\n\n\n\nProceeds to benefit the Eastern Shore Art Center's community outreach efforts.
X-ALT-DESC;FMTTYPE=text/html:This year&rsquo\;s paint out\, beginning October 28th and ending on November 2nd\, will give locals and visitors a chance to see artists in action or &ldquo\;en plein air&rdquo\;! Artists will be set up from sunrise to sunset around town.<br />\n<br />\nProceeds to benefit the Eastern Shore Art Center&rsquo\;s community outreach efforts.
LOCATION:Locations throughout Fairhope
UID:e.1304.35746
SEQUENCE:3
DTSTAMP:20260423T170622Z
URL:http://business.eschamber.org/events/details/plein-air-fairhope-2024-35746
END:VEVENT

END:VCALENDAR
