BEGIN:VCALENDAR
VERSION:2.0
PRODID:-//ChamberMaster//Event Calendar 2.0//EN
METHOD:PUBLISH
X-PUBLISHED-TTL:P3D
REFRESH-INTERVAL:P3D
CALSCALE:GREGORIAN
BEGIN:VEVENT
DTSTART:20241002T170000Z
DTEND:20241002T170000Z
X-MICROSOFT-CDO-ALLDAYEVENT:FALSE
SUMMARY:POP-UP HEADSHOT EVENT!
DESCRIPTION:Blue Room Photography is having a special Headshot Day! Your special price for a beautiful corporate headshot is $95 (normally $150). A studio set up with a solid backdrop will be available\; or\, weather permitting\, you may choose to have your headshot photographed outside with natural greenery as your backdrop.
X-ALT-DESC;FMTTYPE=text/html:Blue Room Photography is having a special Headshot Day! Your special price for a beautiful corporate headshot is $95 (normally $150). A studio set up with a solid backdrop will be available\; or\, weather permitting\, you may choose to have your headshot photographed outside with natural greenery as your backdrop.
LOCATION:Cloud Mountain Coffee 1305 Main St\, Daphne\, AL 36526
UID:e.1304.35702
SEQUENCE:3
DTSTAMP:20260425T164632Z
URL:http://business.eschamber.org/events/details/pop-up-headshot-event-35702
END:VEVENT

END:VCALENDAR
