BEGIN:VCALENDAR
VERSION:2.0
PRODID:-//ChamberMaster//Event Calendar 2.0//EN
METHOD:PUBLISH
X-PUBLISHED-TTL:P3D
REFRESH-INTERVAL:P3D
CALSCALE:GREGORIAN
BEGIN:VEVENT
DTSTART:20241008T200000Z
DTEND:20241008T220000Z
X-MICROSOFT-CDO-ALLDAYEVENT:FALSE
SUMMARY:Public Power Customer Appreciation Day
DESCRIPTION:Celebrate Public Power Week with Riviera Utilities! You are invited! We're excited to show our appreciation for our customers and employees while highlighting the benefits of public utilities. As a locally controlled\, not-for-profit utility\, we take pride in providing reliable\, affordable services and reinvesting in Baldwin County. ?? ?? Join us for an afternoon of fun featuring pizza\, popcorn\, prizes\, and a Touch-A-Truck display by our amazing employees! It's a perfect chance to connect with our neighbors and learn a bit more about what goes into fueling a community. ?? Western Division Event: Whispering Pines Office Greenspace **The Eastern Division event is separate and will be held on Oct. 10th\, 2024. For more information\, please call our offices. See you there! ????
X-ALT-DESC;FMTTYPE=text/html:Celebrate Public Power Week with Riviera Utilities! You are invited! We&#39\;re excited to show our appreciation for our customers and employees while highlighting the benefits of public utilities. As a locally controlled\, not-for-profit utility\, we take pride in providing reliable\, affordable services and reinvesting in Baldwin County. ?? ?? Join us for an afternoon of fun featuring pizza\, popcorn\, prizes\, and a Touch-A-Truck display by our amazing employees! It&#39\;s a perfect chance to connect with our neighbors and learn a bit more about what goes into fueling a community. ?? Western Division Event: Whispering Pines Office Greenspace **The Eastern Division event is separate and will be held on Oct. 10th\, 2024. For more information\, please call our offices. See you there! ????
LOCATION:700 Whispering Pines\, Daphne\, AL 36526
UID:e.1304.35730
SEQUENCE:3
DTSTAMP:20260425T164715Z
URL:http://business.eschamber.org/events/details/public-power-customer-appreciation-day-35730
END:VEVENT

END:VCALENDAR
