BEGIN:VCALENDAR
VERSION:2.0
PRODID:-//ChamberMaster//Event Calendar 2.0//EN
METHOD:PUBLISH
X-PUBLISHED-TTL:P3D
REFRESH-INTERVAL:P3D
CALSCALE:GREGORIAN
BEGIN:VEVENT
DTSTART:20240203T190000Z
DTEND:20240203T223000Z
X-MICROSOFT-CDO-ALLDAYEVENT:FALSE
SUMMARY:Puppy Gras Pet Parade 2024
DESCRIPTION:No holiday celebration would be complete without our furry friends\, and we invite you to bring them to the 3rd annual Puppy Gras Pet Parade on Feb. 3 through Downtown OWA!\n\nThis is a family-friendly event featuring a pet parade and a costume contest on OWA Island.\n\n Pre-register for the pet parade and costume contest for only $10 on our website. Day-of registration will be offered onsite for only $15.\n\nBe sure to dress in your Mardi Gras best! Puppy Gras Parade registration guarantees you a spot in our costume contest with cash prizes given for OWA Choice\, Puppy Gras King\, Puppy Gras Queen\, Funniest\, and Most Festive!\n\nRegister your pet today! https://visitowa.com/puppy-gras/
X-ALT-DESC;FMTTYPE=text/html:No holiday celebration would be complete without our furry friends\, and we invite you to bring them to the 3rd annual Puppy Gras Pet Parade on Feb. 3 through Downtown OWA!<br />\nThis is a family-friendly event featuring a pet parade and a costume contest on OWA Island.<br />\n&nbsp\;Pre-register for the pet parade and costume contest for only $10 on our website. Day-of registration will be offered onsite for only $15.<br />\nBe sure to dress in your Mardi Gras best! Puppy Gras Parade registration guarantees you a spot in our costume contest with cash prizes given for OWA Choice\, Puppy Gras King\, Puppy Gras Queen\, Funniest\, and Most Festive!<br />\nRegister your pet today! <a href="https://visitowa.com/puppy-gras/">https://visitowa.com/puppy-gras/</a>
LOCATION:Downtown OWA
UID:e.1304.29102
SEQUENCE:3
DTSTAMP:20260426T034431Z
URL:http://business.eschamber.org/events/details/puppy-gras-pet-parade-2024-29102
END:VEVENT

END:VCALENDAR
