BEGIN:VCALENDAR
VERSION:2.0
PRODID:-//ChamberMaster//Event Calendar 2.0//EN
METHOD:PUBLISH
X-PUBLISHED-TTL:P3D
REFRESH-INTERVAL:P3D
CALSCALE:GREGORIAN
BEGIN:VEVENT
DTSTART:20240922T003000Z
DTEND:20240922T193000Z
X-MICROSOFT-CDO-ALLDAYEVENT:FALSE
SUMMARY:Randall Goosby Is Back!
DESCRIPTION:Randall Goosby was the hero soloist of our socially distanced season during Covid. Following that triumphant performance\, he has become one of classical music's hottest young stars. Randall returns to perform Barber's Violin Concerto in a concert featuring Rachmaninoff's Symphonic Dances.
X-ALT-DESC;FMTTYPE=text/html:Randall Goosby was the hero soloist of our socially distanced season during Covid. Following that triumphant performance\, he has become one of classical music&rsquo\;s hottest young stars. Randall returns to perform Barber&rsquo\;s Violin Concerto in a concert featuring Rachmaninoff&rsquo\;s Symphonic Dances.
LOCATION:Saenger Theater 6 S Joachim Street Mobile\, AL 36602
UID:e.1304.32571
SEQUENCE:3
DTSTAMP:20260425T181248Z
URL:http://business.eschamber.org/events/details/randall-goosby-is-back-32571
END:VEVENT

END:VCALENDAR
