BEGIN:VCALENDAR
VERSION:2.0
PRODID:-//ChamberMaster//Event Calendar 2.0//EN
METHOD:PUBLISH
X-PUBLISHED-TTL:P3D
REFRESH-INTERVAL:P3D
CALSCALE:GREGORIAN
BEGIN:VEVENT
DTSTART:20260505T160000Z
DTEND:20260505T170000Z
X-MICROSOFT-CDO-ALLDAYEVENT:FALSE
SUMMARY:Ribbon Cutting: House of Fades
DESCRIPTION:Ribbon Cutting: House of Fades
X-ALT-DESC;FMTTYPE=text/html:Ribbon Cutting: House of Fades&nbsp\;
LOCATION:25325 Hwy 98 Suite K Daphne\, AL 36526 (in the shopping center)
UID:e.1304.40518
SEQUENCE:3
DTSTAMP:20260423T233346Z
URL:http://business.eschamber.org/events/details/ribbon-cutting-house-of-fades-40518
END:VEVENT

END:VCALENDAR
