BEGIN:VCALENDAR
VERSION:2.0
PRODID:-//ChamberMaster//Event Calendar 2.0//EN
METHOD:PUBLISH
X-PUBLISHED-TTL:P3D
REFRESH-INTERVAL:P3D
CALSCALE:GREGORIAN
BEGIN:VEVENT
DTSTART:20240618T160000Z
DTEND:20240618T170000Z
X-MICROSOFT-CDO-ALLDAYEVENT:FALSE
SUMMARY:Ribbon Cutting Open House & Anniversary: La Vita Verto
DESCRIPTION:Ribbon Cutting Open House & Anniversary: La Vita Verto
X-ALT-DESC;FMTTYPE=text/html:Ribbon Cutting Open House &amp\; Anniversary: La Vita Verto
LOCATION:101 B Villa Drive Suite 242 Daphne\, AL 36526
UID:e.1304.31373
SEQUENCE:3
DTSTAMP:20260425T221244Z
URL:http://business.eschamber.org/events/details/ribbon-cutting-open-house-anniversary-la-vita-verto-31373
END:VEVENT

END:VCALENDAR
