BEGIN:VCALENDAR
VERSION:2.0
PRODID:-//ChamberMaster//Event Calendar 2.0//EN
METHOD:PUBLISH
X-PUBLISHED-TTL:P3D
REFRESH-INTERVAL:P3D
CALSCALE:GREGORIAN
BEGIN:VEVENT
DTSTART:20240516T213000Z
DTEND:20240516T223000Z
X-MICROSOFT-CDO-ALLDAYEVENT:FALSE
SUMMARY:Ribbon Cutting/Open House - Café Viola
DESCRIPTION:Ribbon Cutting/Open House - Caf  Viola
X-ALT-DESC;FMTTYPE=text/html:Ribbon Cutting/Open House -&nbsp\;Caf&eacute\; Viola<br />\n
LOCATION:Caf Viola 51 S Church St Fairhope\, AL 36532
UID:e.1304.31342
SEQUENCE:3
DTSTAMP:20260425T233406Z
URL:http://business.eschamber.org/events/details/ribbon-cutting-open-house-caf&#233;-viola-31342
END:VEVENT

END:VCALENDAR
