BEGIN:VCALENDAR
VERSION:2.0
PRODID:-//ChamberMaster//Event Calendar 2.0//EN
METHOD:PUBLISH
X-PUBLISHED-TTL:P3D
REFRESH-INTERVAL:P3D
CALSCALE:GREGORIAN
BEGIN:VEVENT
DTSTART:20240910T141500Z
DTEND:20240910T150000Z
X-MICROSOFT-CDO-ALLDAYEVENT:FALSE
SUMMARY:Ribbon Cutting & Open House: Gruenloh Matz & Associates\, P.C.
DESCRIPTION:Ribbon Cutting & Open House: Gruenloh Matz & Associates\, P.C.
X-ALT-DESC;FMTTYPE=text/html:&nbsp\;Ribbon Cutting &amp\; Open House: Gruenloh Matz &amp\; Associates\, P.C.
LOCATION:22193 State Hwy 59 S Suite D Robertsdale\, AL 36567
UID:e.1304.35629
SEQUENCE:3
DTSTAMP:20260425T182327Z
URL:http://business.eschamber.org/events/details/ribbon-cutting-open-house-gruenloh-matz-associates-p-c-35629
END:VEVENT

END:VCALENDAR
