BEGIN:VCALENDAR
VERSION:2.0
PRODID:-//ChamberMaster//Event Calendar 2.0//EN
METHOD:PUBLISH
X-PUBLISHED-TTL:P3D
REFRESH-INTERVAL:P3D
CALSCALE:GREGORIAN
BEGIN:VEVENT
DTSTART:20240823T180000Z
DTEND:20240823T190000Z
X-MICROSOFT-CDO-ALLDAYEVENT:FALSE
SUMMARY:Ribbon Cutting & Open House: Point Clear Dental
DESCRIPTION:Ribbon Cutting & Open House: Point Clear Dental
X-ALT-DESC;FMTTYPE=text/html:Ribbon Cutting &amp\; Open House: Point Clear Dental
LOCATION:18157 Wright Blvd Fairhope\, AL 36532
UID:e.1304.34170
SEQUENCE:3
DTSTAMP:20260425T193131Z
URL:http://business.eschamber.org/events/details/ribbon-cutting-open-house-point-clear-dental-34170
END:VEVENT

END:VCALENDAR
