BEGIN:VCALENDAR
VERSION:2.0
PRODID:-//ChamberMaster//Event Calendar 2.0//EN
METHOD:PUBLISH
X-PUBLISHED-TTL:P3D
REFRESH-INTERVAL:P3D
CALSCALE:GREGORIAN
BEGIN:VEVENT
DTSTART:20240911T180000Z
DTEND:20240911T190000Z
X-MICROSOFT-CDO-ALLDAYEVENT:FALSE
SUMMARY:Ribbon Cutting & Open House: Serenité Home
DESCRIPTION:Ribbon Cutting & Open House: Serenit  Home
X-ALT-DESC;FMTTYPE=text/html:&nbsp\;Ribbon Cutting &amp\; Open House: Serenit&eacute\; Home<br />\n
LOCATION:25325 US Hwy 98 Ste B Daphne AL 36526
UID:e.1304.35665
SEQUENCE:3
DTSTAMP:20260425T182113Z
URL:http://business.eschamber.org/events/details/ribbon-cutting-open-house-serenit&#233;-home-35665
END:VEVENT

END:VCALENDAR
