BEGIN:VCALENDAR
VERSION:2.0
PRODID:-//ChamberMaster//Event Calendar 2.0//EN
METHOD:PUBLISH
X-PUBLISHED-TTL:P3D
REFRESH-INTERVAL:P3D
CALSCALE:GREGORIAN
BEGIN:VEVENT
DTSTART:20240514T160000Z
DTEND:20240514T163000Z
X-MICROSOFT-CDO-ALLDAYEVENT:FALSE
SUMMARY:Ribbon Cutting/Open House - Wildwood Garden Center
DESCRIPTION:Ribbon Cutting/Open House - Wildwood Garden Center
X-ALT-DESC;FMTTYPE=text/html:Ribbon Cutting/Open House - Wildwood Garden Center<br />\n
LOCATION:25288 Highway 181 Daphne AL 36526
UID:e.1304.31340
SEQUENCE:3
DTSTAMP:20260425T233935Z
URL:http://business.eschamber.org/events/details/ribbon-cutting-open-house-wildwood-garden-center-31340
END:VEVENT

END:VCALENDAR
