BEGIN:VCALENDAR
VERSION:2.0
PRODID:-//ChamberMaster//Event Calendar 2.0//EN
METHOD:PUBLISH
X-PUBLISHED-TTL:P3D
REFRESH-INTERVAL:P3D
CALSCALE:GREGORIAN
BEGIN:VEVENT
DTSTART:20240514T163000Z
DTEND:20240515T040000Z
X-MICROSOFT-CDO-ALLDAYEVENT:FALSE
SUMMARY:Ribbon Cutting/Open House - Wilson Landscape and Lawn Service\, LLC
DESCRIPTION:Ribbon Cutting/Open House - Wilson Landscape and Lawn Service\, LLC
X-ALT-DESC;FMTTYPE=text/html:Ribbon Cutting/Open House -&nbsp\;Wilson Landscape and Lawn Service\, LLC<br />\n
LOCATION:25288 Highway 181 Daphne AL 36526
UID:e.1304.31341
SEQUENCE:3
DTSTAMP:20260425T233623Z
URL:http://business.eschamber.org/events/details/ribbon-cutting-open-house-wilson-landscape-and-lawn-service-llc-31341
END:VEVENT

END:VCALENDAR
