BEGIN:VCALENDAR
VERSION:2.0
PRODID:-//ChamberMaster//Event Calendar 2.0//EN
METHOD:PUBLISH
X-PUBLISHED-TTL:P3D
REFRESH-INTERVAL:P3D
CALSCALE:GREGORIAN
BEGIN:VEVENT
DTSTART:20241211T190000Z
DTEND:20241211T220000Z
X-MICROSOFT-CDO-ALLDAYEVENT:FALSE
SUMMARY:Ribbon Cutting/Open House: Young's Suncoast Realty & Vacation Rentals
DESCRIPTION:Join in celebration of our new location!  We look forward to welcoming our neighbors with door prizes and light charcuterie freshments.
X-ALT-DESC;FMTTYPE=text/html:Join in celebration of our new location!&nbsp\; We look forward to welcoming our neighbors with door prizes and light charcuterie freshments.
LOCATION:Young's Suncoast Realty & Vacation Rentals 100 Cove Avenue\, Gulf Shores\, AL 36542
UID:e.1304.36011
SEQUENCE:3
DTSTAMP:20260425T124334Z
URL:http://business.eschamber.org/events/details/ribbon-cutting-open-house-young-s-suncoast-realty-vacation-rentals-36011
END:VEVENT

END:VCALENDAR
