BEGIN:VCALENDAR
VERSION:2.0
PRODID:-//ChamberMaster//Event Calendar 2.0//EN
METHOD:PUBLISH
X-PUBLISHED-TTL:P3D
REFRESH-INTERVAL:P3D
CALSCALE:GREGORIAN
BEGIN:VEVENT
DTSTART:20240221T003000Z
DTEND:20240221T023000Z
X-MICROSOFT-CDO-ALLDAYEVENT:FALSE
SUMMARY:Ridge Wine Dinner
DESCRIPTION:Join us for an evening of great wine and mingling with Poppi Monroe from Ridge Winery in California. We will have a tasting of numerous wines from Ridge and passed hors d'ourves by Chef Adam Stephens. Our Wine Director\, Will Jones\, and Ridge Wine Ambassador\, Poppi Monroe\, will be on property to discuss each wine\, Ridge\, and to answer any questions that may come to mind. 1st Wine Ridge Grenache Blanc Adelaida District\, California Passed Hors d'ourve:  Chicken Sausage // Charred Citrus Aioli / Garden Herbs   2nd Wine Ridge "Three Valleys" Sonoma County\, California Passed Hors d'ourve:  Chilled Beet Soup // Cr me Fraiche / Dill   3rd Wine Ridge "Lytton Springs" Dry Creek Valley\, California Passed Hors d'ourve:  Beef Tartare // Port Dijon / Shallot / Peppercorn Aioli   4th Wine Ridge "Geysersville" Alexander Valley\, California Passed Hors d'ourve:  Espresso Chocolate Mousse // Liquor 43 Caviar
X-ALT-DESC;FMTTYPE=text/html:Join us for an evening of great wine and mingling with Poppi Monroe from Ridge Winery in California. We will have a tasting of numerous wines from Ridge and passed hors d&rsquo\;ourves by Chef Adam Stephens. Our Wine Director\, Will Jones\, and Ridge Wine Ambassador\, Poppi Monroe\, will be on property to discuss each wine\, Ridge\, and to answer any questions that may come to mind. 1st Wine Ridge Grenache Blanc Adelaida District\, California Passed Hors d&rsquo\;ourve: &nbsp\;Chicken Sausage // Charred Citrus Aioli / Garden Herbs &nbsp\; 2nd Wine Ridge &ldquo\;Three Valleys&rdquo\; Sonoma County\, California Passed Hors d&rsquo\;ourve:&nbsp\; Chilled Beet Soup // Cr&egrave\;me Fraiche / Dill &nbsp\; 3rd Wine Ridge &ldquo\;Lytton Springs&rdquo\; Dry Creek Valley\, California Passed Hors d&rsquo\;ourve:&nbsp\; Beef Tartare // Port Dijon / Shallot / Peppercorn Aioli &nbsp\; 4th Wine Ridge &ldquo\;Geysersville&rdquo\; Alexander Valley\, California Passed Hors d&rsquo\;ourve:&nbsp\; Espresso Chocolate Mousse // Liquor 43 Caviar
LOCATION:The Barn at The Hope Farm
UID:e.1304.29100
SEQUENCE:3
DTSTAMP:20260426T033616Z
URL:http://business.eschamber.org/events/details/ridge-wine-dinner-29100
END:VEVENT

END:VCALENDAR
