BEGIN:VCALENDAR
VERSION:2.0
PRODID:-//ChamberMaster//Event Calendar 2.0//EN
METHOD:PUBLISH
X-PUBLISHED-TTL:P3D
REFRESH-INTERVAL:P3D
CALSCALE:GREGORIAN
BEGIN:VEVENT
DTSTART:20240425T230000Z
DTEND:20240426T030000Z
X-MICROSOFT-CDO-ALLDAYEVENT:FALSE
SUMMARY:RMHC Little Black Dress
DESCRIPTION:Little Black Dress is back!\n\nPresented by Barnes Family McDonalds\, this year's gala and a wildly fun runway show will feature 40 local women and men modeling the latest in 2024 fashion\, styled by Dillard's. During the event\, guests will hear from a Ronald McDonald House family as they share their story of their child's medical journey and the impact that Ronald McDonald House had on their family. The Runway Show Gala features an elegant cocktail party with heavy hors d'oeuvres and live music following the show. Benefiting Ronald McDonald House Charities of Mobile.
X-ALT-DESC;FMTTYPE=text/html:<h2>Little Black Dress is back!</h2>\n\n<p>Presented by Barnes Family McDonalds\, this year&rsquo\;s gala and a wildly fun runway show will feature 40 local women and men modeling the latest in 2024 fashion\, styled by Dillard&rsquo\;s. During the event\, guests will hear from a Ronald McDonald House family as they share their story of their child&rsquo\;s medical journey and the impact that Ronald McDonald House had on their family. The Runway Show Gala features an elegant cocktail party with heavy hors d&rsquo\;oeuvres and live music following the show. Benefiting Ronald McDonald House Charities of Mobile.&nbsp\;<br />\n<br />\n&nbsp\;</p>\n
LOCATION:Fort Whiting Reception Hall
UID:e.1304.29968
SEQUENCE:3
DTSTAMP:20260426T005541Z
URL:http://business.eschamber.org/events/details/rmhc-little-black-dress-29968
END:VEVENT

END:VCALENDAR
