BEGIN:VCALENDAR
VERSION:2.0
PRODID:-//ChamberMaster//Event Calendar 2.0//EN
METHOD:PUBLISH
X-PUBLISHED-TTL:P3D
REFRESH-INTERVAL:P3D
CALSCALE:GREGORIAN
BEGIN:VEVENT
DTSTART:20241201T180000Z
DTEND:20241201T210000Z
X-MICROSOFT-CDO-ALLDAYEVENT:FALSE
SUMMARY:Rockin' Around Rock Creek
DESCRIPTION:Bring the family and enjoy Christmas at Rock Creek Golf Club. We will have gingerbread cookie decorating\, Christmas putt putt\, and MORE! Bring a new\, unwrapped toy to donate to Toys for Tots. Brunch and specialty cocktail menu will be available for purchase.
X-ALT-DESC;FMTTYPE=text/html:Bring the family and enjoy Christmas at Rock Creek Golf Club. We will have gingerbread cookie decorating\, Christmas putt putt\, and MORE! Bring a new\, unwrapped toy to donate to Toys for Tots. Brunch and specialty cocktail menu will be available for purchase.
LOCATION:Rock Creek Golf Club 140 Clubhouse Drive Fairhope\, AL 36532
UID:e.1304.35966
SEQUENCE:3
DTSTAMP:20260425T123643Z
URL:http://business.eschamber.org/events/details/rockin-around-rock-creek-35966
END:VEVENT

END:VCALENDAR
