BEGIN:VCALENDAR
VERSION:2.0
PRODID:-//ChamberMaster//Event Calendar 2.0//EN
METHOD:PUBLISH
X-PUBLISHED-TTL:P3D
REFRESH-INTERVAL:P3D
CALSCALE:GREGORIAN
BEGIN:VEVENT
DTSTART:20260730T133000Z
DTEND:20260730T203000Z
X-MICROSOFT-CDO-ALLDAYEVENT:FALSE
SUMMARY:SACNP 12th Annual NonProfit Summit
DESCRIPTION:Join other nonprofit leaders for a day of professional development and learning at our annual Nonprofit Summit.\n\nFeaturing expert speakers and presenters on topics including: Artificial Intelligence\, Communications\, Policy Development\, Fundraising\, and more!
X-ALT-DESC;FMTTYPE=text/html:Join other nonprofit leaders for a day of professional development and learning at our annual Nonprofit Summit.<br />\nFeaturing expert speakers and presenters on topics including:&nbsp\;Artificial Intelligence\, Communications\, Policy Development\, Fundraising\, and more!
LOCATION:Spring Hill College 4000 Dauphin Street Mobile\, AL 36608
UID:e.1304.40504
SEQUENCE:3
DTSTAMP:20260424T121934Z
URL:http://business.eschamber.org/events/details/sacnp-12th-annual-nonprofit-summit-40504
END:VEVENT

END:VCALENDAR
