BEGIN:VCALENDAR
VERSION:2.0
PRODID:-//ChamberMaster//Event Calendar 2.0//EN
METHOD:PUBLISH
X-PUBLISHED-TTL:P3D
REFRESH-INTERVAL:P3D
CALSCALE:GREGORIAN
BEGIN:VEVENT
DTSTART:20240521T230000Z
DTEND:20240522T020000Z
X-MICROSOFT-CDO-ALLDAYEVENT:FALSE
SUMMARY:Scholarship Banquet - Baldwin County Auburn Club
DESCRIPTION:The Baldwin County Auburn Club is thrilled to announce its Annual Scholarship Banquet\, slated for May 21\, 2024\, at the prestigious Orange Beach Event Center. This esteemed gathering aims to unite Auburn alumni\, supporters\, and community members in a vibrant celebration of academic ambition and Tiger spirit. At the heart of the evening is a commitment to supporting the next generation of Auburn leaders\, with the banquet serving as a key fundraising event for nine scholarships designated for local high school students aspiring to attend Auburn University. The highlight of the event will be an inspiring address from Marcus Davis\, a former Auburn standout and the current Wide Receivers Coach\, whose journey from player to coach embodies the values of perseverance\, teamwork\, and excellence that Auburn stands for. Join us for an unforgettable evening of fellowship\, fine dining\, and the shared goal of making Auburn dreams a reality for deserving students.
X-ALT-DESC;FMTTYPE=text/html:The Baldwin County Auburn Club is thrilled to announce its Annual Scholarship Banquet\, slated for May 21\, 2024\, at the prestigious Orange Beach Event Center. This esteemed gathering aims to unite Auburn alumni\, supporters\, and community members in a vibrant celebration of academic ambition and Tiger spirit. At the heart of the evening is a commitment to supporting the next generation of Auburn leaders\, with the banquet serving as a key fundraising event for nine scholarships designated for local high school students aspiring to attend Auburn University. The highlight of the event will be an inspiring address from Marcus Davis\, a former Auburn standout and the current Wide Receivers Coach\, whose journey from player to coach embodies the values of perseverance\, teamwork\, and excellence that Auburn stands for. Join us for an unforgettable evening of fellowship\, fine dining\, and the shared goal of making Auburn dreams a reality for deserving students.
LOCATION:Orange Beach Event Center 4671 Wharf Parkway\, Orange Beach\, AL 36561
UID:e.1304.30088
SEQUENCE:3
DTSTAMP:20260425T233645Z
URL:http://business.eschamber.org/events/details/scholarship-banquet-baldwin-county-auburn-club-30088
END:VEVENT

END:VCALENDAR
