BEGIN:VCALENDAR
VERSION:2.0
PRODID:-//ChamberMaster//Event Calendar 2.0//EN
METHOD:PUBLISH
X-PUBLISHED-TTL:P3D
REFRESH-INTERVAL:P3D
CALSCALE:GREGORIAN
BEGIN:VEVENT
DTSTART:20240611T153000Z
DTEND:20240611T173000Z
X-MICROSOFT-CDO-ALLDAYEVENT:FALSE
SUMMARY:Severe Weather Safety Expo
DESCRIPTION:Learn how to be prepared before\, during and after a storm.  Featuring Spinks Megginson\, Redzone Weather Meteorologist.
X-ALT-DESC;FMTTYPE=text/html:Learn how to be prepared before\, during and after a storm.&nbsp\; Featuring Spinks Megginson\, Redzone Weather Meteorologist.
LOCATION:James P. Nix Senior Center\, 1 Bayou Drive\, Fairhope\, AL 36532
UID:e.1304.31387
SEQUENCE:3
DTSTAMP:20260425T221017Z
URL:http://business.eschamber.org/events/details/severe-weather-safety-expo-31387
END:VEVENT

END:VCALENDAR
