BEGIN:VCALENDAR
VERSION:2.0
PRODID:-//ChamberMaster//Event Calendar 2.0//EN
METHOD:PUBLISH
X-PUBLISHED-TTL:P3D
REFRESH-INTERVAL:P3D
CALSCALE:GREGORIAN
BEGIN:VEVENT
DTSTART:20241120T000000Z
DTEND:20241120T013000Z
X-MICROSOFT-CDO-ALLDAYEVENT:FALSE
SUMMARY:Shuck Cancer Committee Meeting
DESCRIPTION:The American Cancer Society's first annual Shuck Cancer event will take place April 3\, 2025 at Oak Hollow Farm. This event will feature oyster tastings\, bourbon tastings\, live entertainment\, and more! Proceeds from the event will benefit Access to Care Programs in Alabama such as The Hope Lodge\, Road to Recovery Program\, and other transportation and lodging grants for patients and their families. If you are interested in joining our committee\, please join us November 19th at Bill-Es for our next committee meeting
X-ALT-DESC;FMTTYPE=text/html:The American Cancer Society&rsquo\;s first annual Shuck Cancer event will take place April 3\, 2025 at Oak Hollow Farm. This event will feature oyster tastings\, bourbon tastings\, live entertainment\, and more! Proceeds from the event will benefit Access to Care Programs in Alabama such as The Hope Lodge\, Road to Recovery Program\, and other transportation and lodging grants for patients and their families. If you are interested in joining our committee\, please join us November 19th at Bill-Es for our next committee meeting
LOCATION:Bill-Es 19992 AL-181 Suite A Fairhope\, AL 36532
UID:e.1304.35969
SEQUENCE:3
DTSTAMP:20260425T153242Z
URL:http://business.eschamber.org/events/details/shuck-cancer-committee-meeting-35969
END:VEVENT

END:VCALENDAR
