BEGIN:VCALENDAR
VERSION:2.0
PRODID:-//ChamberMaster//Event Calendar 2.0//EN
METHOD:PUBLISH
X-PUBLISHED-TTL:P3D
REFRESH-INTERVAL:P3D
CALSCALE:GREGORIAN
BEGIN:VEVENT
DTSTART:20260430T160000Z
DTEND:20260430T180000Z
X-MICROSOFT-CDO-ALLDAYEVENT:FALSE
SUMMARY:Sip\, Savor & Tour: Hampton Inn Renovation Celebration and Open House
DESCRIPTION:Join us for a morning of networking and celebration! Enjoy mimosas\, Hampton's signature waffles\, fried chicken tenders and other light refreshments while taking in beautiful views of Mobile Bay. We invite you to tour our newly renovated Hampton Inn Mobile   East Bay / Daphne and connect with fellow professionals. Giveaway We'll also be giving away (1) Complimentary Two-Night Stay at Hampton Inn\, along with (2) Gift Certificates for 1 Round of Golf with Cart Fees at Rock Creek Golf Club ?? Bonus: One lucky guest will win a Complimentary Two-Night Stay!
X-ALT-DESC;FMTTYPE=text/html:Join us for a morning of networking and celebration! Enjoy mimosas\, Hampton&#39\;s signature waffles\, fried chicken tenders and other light refreshments while taking in beautiful views of Mobile Bay. We invite you to tour our newly renovated Hampton Inn Mobile &ndash\; East Bay / Daphne and connect with fellow professionals. Giveaway We&#39\;ll also be giving away (1) Complimentary Two-Night Stay at Hampton Inn\, along with (2) Gift Certificates for 1 Round of Golf with Cart Fees at Rock Creek Golf Club ?? Bonus: One lucky guest will win a Complimentary Two-Night Stay!
LOCATION:Hampton Inn 29451 US Hwy 98 Daphne\, AL 36526
UID:e.1304.40517
SEQUENCE:3
DTSTAMP:20260424T110221Z
URL:http://business.eschamber.org/events/details/sip-savor-tour-hampton-inn-renovation-celebration-and-open-house-40517
END:VEVENT

END:VCALENDAR
