BEGIN:VCALENDAR
VERSION:2.0
PRODID:-//ChamberMaster//Event Calendar 2.0//EN
METHOD:PUBLISH
X-PUBLISHED-TTL:P3D
REFRESH-INTERVAL:P3D
CALSCALE:GREGORIAN
BEGIN:VEVENT
DTSTART:20241213T220000Z
DTEND:20241214T020000Z
X-MICROSOFT-CDO-ALLDAYEVENT:FALSE
SUMMARY:"Snow" & Movie Night in the Park
DESCRIPTION:Come join us for "snow" and movie in the park.  Feature movie "The Nightmare Before Christmas".\n\nBring your chairs or blankets.
X-ALT-DESC;FMTTYPE=text/html:Come join us for &quot\;snow&quot\; and movie in the park.&nbsp\; Feature movie &quot\;The Nightmare Before Christmas&quot\;.<br />\nBring your chairs or blankets.
LOCATION:Al Trione Sports Complex\, 8600 Whispering Pines Road\, Daphne\, AL
UID:e.1304.36016
SEQUENCE:3
DTSTAMP:20260425T124344Z
URL:http://business.eschamber.org/events/details/snow-movie-night-in-the-park-36016
END:VEVENT

END:VCALENDAR
