BEGIN:VCALENDAR
VERSION:2.0
PRODID:-//ChamberMaster//Event Calendar 2.0//EN
METHOD:PUBLISH
X-PUBLISHED-TTL:P3D
REFRESH-INTERVAL:P3D
CALSCALE:GREGORIAN
BEGIN:VEVENT
DTSTART:20240720T003000Z
DTEND:20240720T023000Z
X-MICROSOFT-CDO-ALLDAYEVENT:FALSE
SUMMARY:Songa & Stories Songwriter Showcase featuring Muscle Shoals
DESCRIPTION:Join us center stage at OWA Theater to enjoy talented songwriters at Songs & Stories Songwriters Showcase featuring songwriters from Muscle Shoals on July 19th at 7:30pm! From grammy award winner artists to beloved writers of soulful melodies\, these writers will bring an incredible evening of original sound as they share their stories behind the songs!\n\n\n\nThe Frank Brown International Songwriters' Festival and OWA Theater proudly present this exceptional evening celebrating talented song writers magic from Gary Nichols\, Trey Nichols\, Mark Narmore\, and Lindy Urban! Don't miss this chance to be apart of this musical journey showcasing the incredible talent on the same night center stage at OWA Theater!\n\n\n\nDoors open at 6pm! Arrive early to grab drinks and refreshments! Grab tickets here before they sell out! Tickets: https://visitowa.com/songs-and-stories-showcase/\n\n\n\nLearn more about the artists below!
X-ALT-DESC;FMTTYPE=text/html:Join us center stage at OWA Theater to enjoy talented songwriters at Songs &amp\; Stories Songwriters Showcase featuring songwriters from Muscle Shoals on July 19th at 7:30pm! From grammy award winner artists to beloved writers of soulful melodies\, these writers will bring an incredible evening of original sound as they share their stories behind the songs!<br />\n<br />\nThe Frank Brown International Songwriters&rsquo\; Festival and OWA Theater proudly present this exceptional evening celebrating talented song writers magic from Gary Nichols\, Trey Nichols\, Mark Narmore\, and Lindy Urban! Don&rsquo\;t miss this chance to be apart of this musical journey showcasing the incredible talent on the same night center stage at OWA Theater!<br />\n<br />\nDoors open at 6pm! Arrive early to grab drinks and refreshments! Grab tickets here before they sell out! Tickets: https://visitowa.com/songs-and-stories-showcase/<br />\n<br />\nLearn more about the artists below!
LOCATION:Location: OWA Theater
UID:e.1304.31397
SEQUENCE:3
DTSTAMP:20260425T210011Z
URL:http://business.eschamber.org/events/details/songa-stories-songwriter-showcase-featuring-muscle-shoals-31397
END:VEVENT

END:VCALENDAR
