BEGIN:VCALENDAR
VERSION:2.0
PRODID:-//ChamberMaster//Event Calendar 2.0//EN
METHOD:PUBLISH
X-PUBLISHED-TTL:P3D
REFRESH-INTERVAL:P3D
CALSCALE:GREGORIAN
BEGIN:VEVENT
DTSTART:20240928T003000Z
DTEND:20240928T023000Z
X-MICROSOFT-CDO-ALLDAYEVENT:FALSE
SUMMARY:Songs & Stories Songwriter Showcase featuring Jon Nite\, Dylan Altman & Lindsey Rimes
DESCRIPTION:Join us center stage at OWA Theater to enjoy an evening of music and storytelling at Songs & Stories Songwriters Showcase\, featuring Nashville's most talented writers Jon Nite\, Dylan Altman & Lindsey Rimes! November 13th at 7:30 pm\, hear the hit songs you love and the stories behind them. From Jon Nite's award-winning tracks for top artists to Dylan Altman's #1 hits for Tim McGraw and Jake Owen\, and Lindsey Rimes' global success\, this showcase promises an incredible night of country music.\n\nPresented by the Frank Brown International Songwriters' Festival and OWA Theater\, this exclusive event is your chance to witness the artistry of Nashville's finest songwriters\, all on one stage. Doors open at 6 PM\, so arrive early for drinks and refreshments!\n\n \n\nSpecial Offer: Purchase a ticket for your chance to win a guitar signed live on stage by Jon Nite\, Dylan Altman\, and Lindsey Rimes! Don't miss this one-of-a-kind experience!\n\n \n\nGrab tickets here before they sell out! Tickets: https://visitowa.com/songs-and-stories-showcase/
X-ALT-DESC;FMTTYPE=text/html:Join us center stage at OWA Theater to enjoy an evening of music and storytelling at Songs &amp\; Stories Songwriters Showcase\, featuring Nashville&rsquo\;s most talented writers&mdash\;Jon Nite\, Dylan Altman &amp\; Lindsey Rimes! November 13<sup>th</sup> at 7:30 pm\, hear the hit songs you love and the stories behind them. From Jon Nite&rsquo\;s award-winning tracks for top artists to Dylan Altman&rsquo\;s #1 hits for Tim McGraw and Jake Owen\, and Lindsey Rimes&rsquo\; global success\, this showcase promises an incredible night of country music.<br />\nPresented by the Frank Brown International Songwriters&rsquo\; Festival and OWA Theater\, this exclusive event is your chance to witness the artistry of Nashville&rsquo\;s finest songwriters\, all on one stage. Doors open at 6 PM\, so arrive early for drinks and refreshments!<br />\n&nbsp\;<br />\n<strong>Special Offer:</strong> Purchase a ticket for your chance to win a guitar signed live on stage by Jon Nite\, Dylan Altman\, and Lindsey Rimes! Don&#39\;t miss this one-of-a-kind experience!<br />\n&nbsp\;<br />\n<span style="font-family:aptos\,sans-serif"><span style="font-size:11.0pt">Grab tickets here before they sell out! Tickets: <a href="https://visitowa.com/songs-and-stories-showcase/">https://visitowa.com/songs-and-stories-showcase/</a></span></span>
LOCATION:OWA Theater
UID:e.1304.35737
SEQUENCE:3
DTSTAMP:20260425T182237Z
URL:http://business.eschamber.org/events/details/songs-stories-songwriter-showcase-featuring-jon-nite-dylan-altman-lindsey-rimes-35737
END:VEVENT

END:VCALENDAR
