BEGIN:VCALENDAR
VERSION:2.0
PRODID:-//ChamberMaster//Event Calendar 2.0//EN
METHOD:PUBLISH
X-PUBLISHED-TTL:P3D
REFRESH-INTERVAL:P3D
CALSCALE:GREGORIAN
BEGIN:VEVENT
DTSTART:20241119T230000Z
DTEND:20241120T020000Z
X-MICROSOFT-CDO-ALLDAYEVENT:FALSE
SUMMARY:Southern Get-Togethers Eat and Greet with Kelsey Barnard Clark
DESCRIPTION:Southern Get-Togethers Eat and Greet with Kelsey Barnard Clark Cocktails\, Sprimp Boil & Dessert Tuesday\, November 19 VIP Access at 5 p.m. Murder Point Oysters and special music guest General Admission at 6 p.m. Tickets: https://order.toasttab.com/online/the-waterfront-pp-group-1-yacht-club-drive
X-ALT-DESC;FMTTYPE=text/html:Southern Get-Togethers Eat and Greet with Kelsey Barnard Clark Cocktails\, Sprimp Boil &amp\; Dessert Tuesday\, November 19 VIP Access at 5 p.m. Murder Point Oysters and special music guest General Admission at 6 p.m. Tickets: https://order.toasttab.com/online/the-waterfront-pp-group-1-yacht-club-drive
LOCATION:The Waterfront 1 Yacht Club Drive\, Daphne\, AL 36526
UID:e.1304.35854
SEQUENCE:3
DTSTAMP:20260425T152901Z
URL:http://business.eschamber.org/events/details/southern-get-togethers-eat-and-greet-with-kelsey-barnard-clark-35854
END:VEVENT

END:VCALENDAR
