BEGIN:VCALENDAR
VERSION:2.0
PRODID:-//ChamberMaster//Event Calendar 2.0//EN
METHOD:PUBLISH
X-PUBLISHED-TTL:P3D
REFRESH-INTERVAL:P3D
CALSCALE:GREGORIAN
BEGIN:VEVENT
DTSTART:20241010T170000Z
DTEND:20241010T230000Z
X-MICROSOFT-CDO-ALLDAYEVENT:FALSE
SUMMARY:Sporting Clays Tournament
DESCRIPTION:The Sporting Clays Tournament has been one of the most important clay tournaments in the SW Alabama for years. Its participants have made Scouting the premier choice for youth and families in and around the four counties we serve (Mobile\, Baldwin\, Clarke\, and Washington)
X-ALT-DESC;FMTTYPE=text/html:The Sporting Clays Tournament has been one of the most important clay tournaments in the SW Alabama for years. Its participants have made Scouting the premier choice for youth and families in and around the four counties we serve (Mobile\, Baldwin\, Clarke\, and Washington)
LOCATION:Taylor Creek
UID:e.1304.32601
SEQUENCE:3
DTSTAMP:20260425T164747Z
URL:http://business.eschamber.org/events/details/sporting-clays-tournament-32601
END:VEVENT

END:VCALENDAR
