BEGIN:VCALENDAR
VERSION:2.0
PRODID:-//ChamberMaster//Event Calendar 2.0//EN
METHOD:PUBLISH
X-PUBLISHED-TTL:P3D
REFRESH-INTERVAL:P3D
CALSCALE:GREGORIAN
BEGIN:VEVENT
DTSTART:20240420T170000Z
DTEND:20240420T230000Z
X-MICROSOFT-CDO-ALLDAYEVENT:FALSE
SUMMARY:Spring Home & Garden Festival
DESCRIPTION:Spring is here\, and it's time to celebrate! Join us for a Spring Home & Garden Festival on April 20th! Explore everything from stylish home goods to garden essentials\, come discover the latest trends to refresh your home with a touch of spring from noon to 6 pm. The festival showcases local garden clubs\, home d cor boutiques\, lawn care\, and more!\n\n\n\nAs a family-friendly event\, enjoy free kids' activities and live music   and the best part? It's entirely free to attend! So\, make your way to Downtown OWA on April 20th to learn the freshest trends for your spring home refresh!
X-ALT-DESC;FMTTYPE=text/html:Spring is here\, and it&#39\;s time to celebrate! Join us for a Spring Home &amp\; Garden Festival on April 20th! Explore everything from stylish home goods to garden essentials\, come discover the latest trends to refresh your home with a touch of spring from noon to 6 pm. The festival showcases local garden clubs\, home d&eacute\;cor boutiques\, lawn care\, and more!<br />\n<br />\nAs a family-friendly event\, enjoy free kids&#39\; activities and live music &ndash\; and the best part? It&#39\;s entirely free to attend! So\, make your way to Downtown OWA on April 20th to learn the freshest trends for your spring home refresh!
LOCATION:Downtown OWA
UID:e.1304.30056
SEQUENCE:3
DTSTAMP:20260426T005547Z
URL:http://business.eschamber.org/events/details/spring-home-garden-festival-30056
END:VEVENT

END:VCALENDAR
