BEGIN:VCALENDAR
VERSION:2.0
PRODID:-//ChamberMaster//Event Calendar 2.0//EN
METHOD:PUBLISH
X-PUBLISHED-TTL:P3D
REFRESH-INTERVAL:P3D
CALSCALE:GREGORIAN
BEGIN:VEVENT
DTSTART:20240303T170000Z
DTEND:20240303T210000Z
X-MICROSOFT-CDO-ALLDAYEVENT:FALSE
SUMMARY:Spring Outdoor Market at 5 Rivers
DESCRIPTION:Coming Sunday\, March 3rd will be our Spring Outdoor Market at 5 Rivers. We have nearly 30 vendors so far and have confirmed that Will-Yums MFU will be our fantastic food unit for the market day. Please share with your friends and family. We would love to have you visit the market. Also on this day\, Blakeley State Park will be hosting an Authors Day at 5 Rivers Delta Resource Center with several local authors in attendance. Also\, there will be boat tours this day too. Check with Blakeley State Park for more information.
X-ALT-DESC;FMTTYPE=text/html:Coming Sunday\, March 3rd will be our Spring Outdoor Market at 5 Rivers. We have nearly 30 vendors so far and have confirmed that Will-Yums MFU will be our fantastic food unit for the market day. Please share with your friends and family. We would love to have you visit the market. Also on this day\, Blakeley State Park will be hosting an Authors Day at 5 Rivers Delta Resource Center with several local authors in attendance. Also\, there will be boat tours this day too. Check with Blakeley State Park for more information.
LOCATION:5 Rivers Delta Resource Center 30945 Five Rivers Blvd. Spanish Fort\, AL 36527
UID:e.1304.30013
SEQUENCE:3
DTSTAMP:20260426T022040Z
URL:http://business.eschamber.org/events/details/spring-outdoor-market-at-5-rivers-30013
END:VEVENT

END:VCALENDAR
