BEGIN:VCALENDAR
VERSION:2.0
PRODID:-//ChamberMaster//Event Calendar 2.0//EN
METHOD:PUBLISH
X-PUBLISHED-TTL:P3D
REFRESH-INTERVAL:P3D
CALSCALE:GREGORIAN
BEGIN:VEVENT
DTSTART:20241012T200000Z
DTEND:20241012T220000Z
X-MICROSOFT-CDO-ALLDAYEVENT:FALSE
SUMMARY:Studying Pinot Noir Wine Educational Series
DESCRIPTION:Join our Wine Director\, Will Jones\, as he leads us through the world of Pinot Noir. During this part of our series\, we will taste through an array of winemaking styles. All of these styles have a common theme\, the varietal. We will enjoy sparkling pinot noir\, a "white" pinot noir\, and two different red expressions of this varietal from two of our favorite wine regions\, California and Burgundy!
X-ALT-DESC;FMTTYPE=text/html:Join our Wine Director\, Will Jones\, as he leads us through the world of Pinot Noir. During this part of our series\, we will taste through an array of winemaking styles. All of these styles have a common theme\, the varietal. We will enjoy sparkling pinot noir\, a &ldquo\;white&rdquo\; pinot noir\, and two different red expressions of this varietal from two of our favorite wine regions\, California and Burgundy!
LOCATION:The Barn
UID:e.1304.35741
SEQUENCE:3
DTSTAMP:20260425T164714Z
URL:http://business.eschamber.org/events/details/studying-pinot-noir-wine-educational-series-35741
END:VEVENT

END:VCALENDAR
