BEGIN:VCALENDAR
VERSION:2.0
PRODID:-//ChamberMaster//Event Calendar 2.0//EN
METHOD:PUBLISH
X-PUBLISHED-TTL:P3D
REFRESH-INTERVAL:P3D
CALSCALE:GREGORIAN
BEGIN:VEVENT
DTSTART:20240622T003000Z
DTEND:20240622T023000Z
X-MICROSOFT-CDO-ALLDAYEVENT:FALSE
SUMMARY:Summer '80s Movie Series - Back to the Future
DESCRIPTION:For an exhilarating journey through time\, don't miss our special screening of "Back to the Future". Experience the magic of Marty McFly and Doc Brown's epic adventure as they navigate through the past\, present\, and future in the legendary DeLorean. Don't miss out on this opportunity to relive the thrills\, laughter\, and timeless appeal of one of cinema's most beloved classics.
X-ALT-DESC;FMTTYPE=text/html:For an exhilarating journey through time\, don&#39\;t miss our special screening of &quot\;Back to the Future&quot\;. Experience the magic of Marty McFly and Doc Brown&#39\;s epic adventure as they navigate through the past\, present\, and future in the legendary DeLorean. Don&#39\;t miss out on this opportunity to relive the thrills\, laughter\, and timeless appeal of one of cinema&#39\;s most beloved classics.
LOCATION:Location: OWA Theater
UID:e.1304.31378
SEQUENCE:3
DTSTAMP:20260425T221054Z
URL:http://business.eschamber.org/events/details/summer-80s-movie-series-back-to-the-future-31378
END:VEVENT

END:VCALENDAR
