BEGIN:VCALENDAR
VERSION:2.0
PRODID:-//ChamberMaster//Event Calendar 2.0//EN
METHOD:PUBLISH
X-PUBLISHED-TTL:P3D
REFRESH-INTERVAL:P3D
CALSCALE:GREGORIAN
BEGIN:VEVENT
DTSTART:20240615T003000Z
DTEND:20240615T023000Z
X-MICROSOFT-CDO-ALLDAYEVENT:FALSE
SUMMARY:Summer '80s Movie Series - Dirty Dancing
DESCRIPTION:Join us for a screening the timeless classic\, "Dirty Dancing\," on June 14th at 7:30 PM. Get ready to be swept away by the romance\, passion\, and unforgettable dance moves of Baby and Johnny. Don't miss your chance to experience the magic of this iconic film with friends and loved ones. See you there!
X-ALT-DESC;FMTTYPE=text/html:Join us for a screening the timeless classic\, &quot\;Dirty Dancing\,&quot\; on June 14th at 7:30 PM. Get ready to be swept away by the romance\, passion\, and unforgettable dance moves of Baby and Johnny. Don&#39\;t miss your chance to experience the magic of this iconic film with friends and loved ones. See you there!
LOCATION:Location: OWA Theater
UID:e.1304.31377
SEQUENCE:3
DTSTAMP:20260425T221048Z
URL:http://business.eschamber.org/events/details/summer-80s-movie-series-dirty-dancing-31377
END:VEVENT

END:VCALENDAR
