BEGIN:VCALENDAR
VERSION:2.0
PRODID:-//ChamberMaster//Event Calendar 2.0//EN
METHOD:PUBLISH
X-PUBLISHED-TTL:P3D
REFRESH-INTERVAL:P3D
CALSCALE:GREGORIAN
BEGIN:VEVENT
DTSTART:20240324T230000Z
DTEND:20240325T020000Z
X-MICROSOFT-CDO-ALLDAYEVENT:FALSE
SUMMARY:Sunday Supper - Aloha Hope Farm
DESCRIPTION:Join us for the March Sunday Supper at The Barn. The theme for the evening is "Aloha Hope Farm" with a Hawaiian curated menu by our Executive Chef\, Adam Stephens. Seating is limited so don't wait\, make your reservation today!         Shoyu Chicken         Kalua Pork         Crispy Fried Shortribs         Loco Moco         Fried Rice         Macaroni Salad
X-ALT-DESC;FMTTYPE=text/html:Join us for the March Sunday Supper at The Barn. The theme for the evening is&nbsp\;&ldquo\;Aloha Hope Farm&rdquo\;&nbsp\;with a Hawaiian curated menu by our Executive Chef\, Adam Stephens. Seating is limited so don&rsquo\;t wait\, make your reservation today! &middot\;&nbsp\;&nbsp\;&nbsp\;&nbsp\;&nbsp\;&nbsp\; Shoyu Chicken &middot\;&nbsp\;&nbsp\;&nbsp\;&nbsp\;&nbsp\;&nbsp\; Kalua Pork &middot\;&nbsp\;&nbsp\;&nbsp\;&nbsp\;&nbsp\;&nbsp\; Crispy Fried Shortribs &middot\;&nbsp\;&nbsp\;&nbsp\;&nbsp\;&nbsp\;&nbsp\; Loco Moco &middot\;&nbsp\;&nbsp\;&nbsp\;&nbsp\;&nbsp\;&nbsp\; Fried Rice &middot\;&nbsp\;&nbsp\;&nbsp\;&nbsp\;&nbsp\;&nbsp\; Macaroni Salad
LOCATION:The Barn at The Hope Farm
UID:e.1304.29096
SEQUENCE:3
DTSTAMP:20260426T033917Z
URL:http://business.eschamber.org/events/details/sunday-supper-aloha-hope-farm-29096
END:VEVENT

END:VCALENDAR
