BEGIN:VCALENDAR
VERSION:2.0
PRODID:-//ChamberMaster//Event Calendar 2.0//EN
METHOD:PUBLISH
X-PUBLISHED-TTL:P3D
REFRESH-INTERVAL:P3D
CALSCALE:GREGORIAN
BEGIN:VEVENT
DTSTART:20240915T230000Z
DTEND:20240916T020000Z
X-MICROSOFT-CDO-ALLDAYEVENT:FALSE
SUMMARY:Sunday Supper Series - Oktoberfest
DESCRIPTION:Join us for the traditional fare of Germanys' oldest folk festival! For September's Sunday Supper. Seating is limited so don't wait\, make your reservation today!
X-ALT-DESC;FMTTYPE=text/html:Join us for the traditional fare of Germanys&rsquo\; oldest folk festival! For September&rsquo\;s Sunday Supper. Seating is limited so don&rsquo\;t wait\, make your reservation today!
LOCATION:The Barn at The Hope Farm
UID:e.1304.35671
SEQUENCE:3
DTSTAMP:20260425T182112Z
URL:http://business.eschamber.org/events/details/sunday-supper-series-oktoberfest-35671
END:VEVENT

END:VCALENDAR
