BEGIN:VCALENDAR
VERSION:2.0
PRODID:-//ChamberMaster//Event Calendar 2.0//EN
METHOD:PUBLISH
X-PUBLISHED-TTL:P3D
REFRESH-INTERVAL:P3D
CALSCALE:GREGORIAN
BEGIN:VEVENT
DTSTART:20240226T000000Z
DTEND:20240226T030000Z
X-MICROSOFT-CDO-ALLDAYEVENT:FALSE
SUMMARY:Sunday Supper - Texas BBQ
DESCRIPTION:Join us for the February Sunday Supper at The Barn. The theme for the evening is "Texas BBQ" with a curated menu by our Executive Chef\, Adam Stephens. Seating is limited so don't wait\, make your reservation today!         Smoked Brisket         Smoked Sausage         Cornbread         Ranch Beans         BBQ Conecuh         Smoked Baby Back Ribs
X-ALT-DESC;FMTTYPE=text/html:Join us for the February Sunday Supper at The Barn. The theme for the evening is&nbsp\;&ldquo\;Texas BBQ&rdquo\;&nbsp\;with a curated menu by our Executive Chef\, Adam Stephens. Seating is limited so don&rsquo\;t wait\, make your reservation today! &middot\;&nbsp\;&nbsp\;&nbsp\;&nbsp\;&nbsp\;&nbsp\; Smoked Brisket &middot\;&nbsp\;&nbsp\;&nbsp\;&nbsp\;&nbsp\;&nbsp\; Smoked Sausage &middot\;&nbsp\;&nbsp\;&nbsp\;&nbsp\;&nbsp\;&nbsp\; Cornbread &middot\;&nbsp\;&nbsp\;&nbsp\;&nbsp\;&nbsp\;&nbsp\; Ranch Beans &middot\;&nbsp\;&nbsp\;&nbsp\;&nbsp\;&nbsp\;&nbsp\; BBQ Conecuh &middot\;&nbsp\;&nbsp\;&nbsp\;&nbsp\;&nbsp\;&nbsp\; Smoked Baby Back Ribs
LOCATION:The Barn at The Hope Farm
UID:e.1304.29095
SEQUENCE:3
DTSTAMP:20260426T034228Z
URL:http://business.eschamber.org/events/details/sunday-supper-texas-bbq-29095
END:VEVENT

END:VCALENDAR
