BEGIN:VCALENDAR
VERSION:2.0
PRODID:-//ChamberMaster//Event Calendar 2.0//EN
METHOD:PUBLISH
X-PUBLISHED-TTL:P3D
REFRESH-INTERVAL:P3D
CALSCALE:GREGORIAN
BEGIN:VEVENT
DTSTART:20260613T001500Z
DTEND:20260613T011500Z
X-MICROSOFT-CDO-ALLDAYEVENT:FALSE
SUMMARY:Sunset Cruise
DESCRIPTION:Come along on a brief relaxing voyage departing from the Bartram Landing at the AWF Delta and Bay Conservation Center at Five Rivers as we experience nature's splendor and be back in time to grab a seafood dinner on the Causeway!
X-ALT-DESC;FMTTYPE=text/html:Come along on a brief relaxing voyage departing from the Bartram Landing at the AWF Delta and Bay Conservation Center at Five Rivers as we experience nature&#39\;s splendor and be back in time to grab a seafood dinner on the Causeway!
LOCATION:Departs from the AWF Delta and Bay Conservation Center at Five Rivers.
UID:e.1304.40513
SEQUENCE:3
DTSTAMP:20260424T110122Z
URL:http://business.eschamber.org/events/details/sunset-cruise-06-12-2026-40513
END:VEVENT

END:VCALENDAR
