BEGIN:VCALENDAR
VERSION:2.0
PRODID:-//ChamberMaster//Event Calendar 2.0//EN
METHOD:PUBLISH
X-PUBLISHED-TTL:P3D
REFRESH-INTERVAL:P3D
CALSCALE:GREGORIAN
BEGIN:VEVENT
DTSTART:20240921T160000Z
DTEND:20240921T170000Z
X-MICROSOFT-CDO-ALLDAYEVENT:FALSE
SUMMARY:Survival Principles Instruction Program for Kids
DESCRIPTION:Blakeley is a partner with several local search and rescue teams. These non-profit volunteer organizations provide vital trained personnel and resources to law enforcement\, fire rescue\, US Coast Guard\, and other agencies in our region during emergency situations. During this special series of programs\, children will be introduced to a few of the most basic survival principles that could mean life or death in the unfortunate event they became lost or separated from adults in the outdoors. They will also get a chance to meet some of the specially-trained dogs which assist professional rescue teams in locating lost or injured individuals in wilderness settings. Complimentary with regular park admission.
X-ALT-DESC;FMTTYPE=text/html:Blakeley is a partner with several local search and rescue teams. These non-profit volunteer organizations provide vital trained personnel and resources to law enforcement\, fire rescue\, US Coast Guard\, and other agencies in our region during emergency situations. During this special series of programs\, children will be introduced to a few of the most basic survival principles that could mean life or death in the unfortunate event they became lost or separated from adults in the outdoors. They will also get a chance to meet some of the specially-trained dogs which assist professional rescue teams in locating lost or injured individuals in wilderness settings. Complimentary with regular park admission.
LOCATION:Historic Blakeley State Park
UID:e.1304.34141
SEQUENCE:3
DTSTAMP:20260425T181247Z
URL:http://business.eschamber.org/events/details/survival-principles-instruction-program-for-kids-09-21-2024-34141
END:VEVENT

END:VCALENDAR
