BEGIN:VCALENDAR
VERSION:2.0
PRODID:-//ChamberMaster//Event Calendar 2.0//EN
METHOD:PUBLISH
X-PUBLISHED-TTL:P3D
REFRESH-INTERVAL:P3D
CALSCALE:GREGORIAN
BEGIN:VEVENT
DTSTART:20241010T230000Z
DTEND:20241011T030000Z
X-MICROSOFT-CDO-ALLDAYEVENT:FALSE
SUMMARY:Tails of Hope Gala
DESCRIPTION:Step into an evening of elegance and compassion at The Tails of Hope Gala this fall. A remarkable event dedicated to supporting The Haven's noble cause. Amidst the enchanting ambiance\, guests will sway away to the Soulful melodies of Mr Big and the Rhythm Sisters\, while indulging in culinary delights crafted by Rouxter's Catering. Engage in the excitement of a silent auction. Savor the delectable buffet\, and toast the evening's festivities at the bar with your favorite humans. With an atmosphere brimming with warmth and camaraderie\, the Gala promises an unforgettable experience for all\, united in the shared mission of spreading Hope and Joy.
X-ALT-DESC;FMTTYPE=text/html:<span style="color: rgba(0\, 0\, 0\, 0.87)\; font-family: Inter\, &quot\;Helvetica Neue&quot\;\, sans-serif\; font-size: medium\; background-color: rgb(245\, 246\, 247)\;">Step into an evening of elegance and compassion at The Tails of Hope Gala this fall. A remarkable event dedicated to supporting The Haven&#39\;s noble cause. Amidst the enchanting ambiance\, guests will sway away to the Soulful melodies of Mr Big and the Rhythm Sisters\, while indulging in culinary delights crafted by Rouxter&#39\;s Catering. Engage in the excitement of a silent auction. Savor the delectable buffet\, and toast the evening&#39\;s festivities at the bar with your favorite humans. With an atmosphere brimming with warmth and camaraderie\, the Gala promises an unforgettable experience for all\, united in the shared mission of spreading Hope and Joy.</span>
LOCATION:Glory Farms\, Foley\, AL
UID:e.1304.35696
SEQUENCE:3
DTSTAMP:20260425T164832Z
URL:http://business.eschamber.org/events/details/tails-of-hope-gala-35696
END:VEVENT

END:VCALENDAR
