BEGIN:VCALENDAR
VERSION:2.0
PRODID:-//ChamberMaster//Event Calendar 2.0//EN
METHOD:PUBLISH
X-PUBLISHED-TTL:P3D
REFRESH-INTERVAL:P3D
CALSCALE:GREGORIAN
BEGIN:VEVENT
DTSTART:20240222T230000Z
DTEND:20240223T010000Z
X-MICROSOFT-CDO-ALLDAYEVENT:FALSE
SUMMARY:The Art of Mixology - Rye Whiskey Vs. Bourbon
DESCRIPTION:For this class\, we will be comparing Bourbon and Rye Whiskey. The class will consist of 4 cocktails and 2 .5oz pours of sipped bourbon. Cocktails: Lion's Tail and Whiskey Sour Sipped Spirits: Peerless Rye\, Elijah Craig Small Batch\, Elijah Craig Rye\, Old Forester 1910
X-ALT-DESC;FMTTYPE=text/html:For this class\, we will be comparing Bourbon and Rye Whiskey. The class will consist of 4 cocktails and 2 .5oz pours of sipped bourbon. Cocktails: Lion&rsquo\;s Tail and Whiskey Sour Sipped Spirits: Peerless Rye\, Elijah Craig Small Batch\, Elijah Craig Rye\, Old Forester 1910
LOCATION:The Barn at The Hope Farm
UID:e.1304.29092
SEQUENCE:3
DTSTAMP:20260426T034836Z
URL:http://business.eschamber.org/events/details/the-art-of-mixology-rye-whiskey-vs-bourbon-29092
END:VEVENT

END:VCALENDAR
